BEGIN:VCALENDAR
VERSION:2.0
PRODID:-//Taborconcerten - ECPv6.15.20//NONSGML v1.0//EN
CALSCALE:GREGORIAN
METHOD:PUBLISH
X-ORIGINAL-URL:https://www.taborconcerten.nl
X-WR-CALDESC:Evenementen voor Taborconcerten
REFRESH-INTERVAL;VALUE=DURATION:PT1H
X-Robots-Tag:noindex
X-PUBLISHED-TTL:PT1H
BEGIN:VTIMEZONE
TZID:Europe/Amsterdam
BEGIN:DAYLIGHT
TZOFFSETFROM:+0100
TZOFFSETTO:+0200
TZNAME:CEST
DTSTART:20250330T010000
END:DAYLIGHT
BEGIN:STANDARD
TZOFFSETFROM:+0200
TZOFFSETTO:+0100
TZNAME:CET
DTSTART:20251026T010000
END:STANDARD
BEGIN:DAYLIGHT
TZOFFSETFROM:+0100
TZOFFSETTO:+0200
TZNAME:CEST
DTSTART:20260329T010000
END:DAYLIGHT
BEGIN:STANDARD
TZOFFSETFROM:+0200
TZOFFSETTO:+0100
TZNAME:CET
DTSTART:20261025T010000
END:STANDARD
BEGIN:DAYLIGHT
TZOFFSETFROM:+0100
TZOFFSETTO:+0200
TZNAME:CEST
DTSTART:20270328T010000
END:DAYLIGHT
BEGIN:STANDARD
TZOFFSETFROM:+0200
TZOFFSETTO:+0100
TZNAME:CET
DTSTART:20271031T010000
END:STANDARD
END:VTIMEZONE
BEGIN:VEVENT
DTSTART;TZID=Europe/Amsterdam:20260607T150000
DTEND;TZID=Europe/Amsterdam:20260607T150000
DTSTAMP:20260424T132014
CREATED:20251002T142143Z
LAST-MODIFIED:20251201T132951Z
UID:1275-1780844400-1780844400@www.taborconcerten.nl
SUMMARY:Lucie Horsch
DESCRIPTION:Zondag 7 juni 2026\n			\n				\n				\n				\n				\n				15:00 uur | € 20\,00(jeugdticket € 10\,00)\n			\n				Kaarten bestellen\n			\n			\n				\n				\n				\n				\n				\n				\n				\n				\n				\n				Lucie Horsch – achtergrond informatie\nIn dit Taborconcert van 7 juni 2026 staat helemaal in het teken van de blokfluit. Lucie  wordt daarbij op de klavecimbel begeleid door Justin Taylor. \nLucie en Justin bieden met dit kleurrijke programma rond het thema ‘kameleon’ een muzikale reis door verschillende stijlen en contrasterende sferen\, beginnend in Nederland\, door Frankrijk\, Italië en uiteindelijk aankomend in Duitsland. Via imitatie\, transformatie en metamorfose laten de twee musici zien hoe veelzijdig Barokmuziek\, net als hun beide instrumenten\, daadwerkelijk kan zijn. \nLucie Horsch (1999) is de internationale sensatie van de blokfluitwereld. Haar muzikaliteit en haar geweldige passie voor dit instrument bracht de blokfluit vanuit een wat ingeslapen imago opnieuw tot grote populariteit. Haar repertoire bestaat voornamelijk uit Barokmuziek\, van componisten als Bach\, Telemann en Vivaldi. Horsch wordt door orkesten in zowel binnen- als buitenland veel gevraagd als solist. Met haar virtuoos en sprankelend spel betovert ze elk publiek. \nAls 9-jarige speelde zij al op het Kinderprinsengrachtconcert\, in 2013 won zij het Prinses Christina Concours en in 2016 kreeg zij de Concertgebouw Young Talent Award uitgereikt. Haar eerste CD met werken van Antonio Vivaldi werd overal juichend ontvangen; zij ontving er in 2018 de Edison Klassiek Award voor. In februari 2019 verscheen haar tweede album: Baroque Journey\, dat werd bekroond met de prestigieuze Opus Klassik Award. In 2020 won Horsch de Nederlandse Muziekprijs. \nIn haar derde album “Origins”\, uitgebracht in september 2022\, verkent Lucie folk-geïnspireerde en traditionele muziek van over de hele wereld\, met schitterende arrangementen van werken van twintigste-eeuwse modernisten – van Bartók\, Debussy en Stravinsky tot Piazzolla\, Isang Yun en Charlie Parker – samen met traditionele melodieën uit de vier windstreken\, uitgevoerd met een indrukwekkend team van gastartiesten. In 2023 werd Origins bekroond met de Edison Klassiek Publieksprijs. \n 
URL:https://www.taborconcerten.nl/concert/lucie-horsch-2/
LOCATION:Taborkerk\, Maasstraat 2\, Purmerend\, Noord Holland\, 1442 RV\, Nederland
CATEGORIES:Concerten
ATTACH;FMTTYPE=image/png:https://www.taborconcerten.nl/wp-content/uploads/2025/10/IMG_9372-bijgesneden-verkleind.png
ORGANIZER;CN="Taborconcerten":MAILTO:info@taborconcerten.nl
END:VEVENT
END:VCALENDAR